BEGIN:VCALENDAR
VERSION:2.0
PRODID:-//CERN//INDICO//EN
BEGIN:VEVENT
SUMMARY:Vicent's TFG's presentation
DTSTART;VALUE=DATE-TIME:20221020T094000Z
DTEND;VALUE=DATE-TIME:20221020T101000Z
DTSTAMP;VALUE=DATE-TIME:20260421T165035Z
UID:indico-contribution-19263@indico.ific.uv.es
DESCRIPTION:https://indico.ific.uv.es/event/6830/contributions/19263/
LOCATION:Universe 1001-Primera-119 - Nave. Exp. Sala de Reuniones
URL:https://indico.ific.uv.es/event/6830/contributions/19263/
END:VEVENT
END:VCALENDAR
