BEGIN:VCALENDAR
VERSION:2.0
PRODID:-//CERN//INDICO//EN
BEGIN:VEVENT
SUMMARY:Raul's TFG presentation
DTSTART;VALUE=DATE-TIME:20221020T091000Z
DTEND;VALUE=DATE-TIME:20221020T094000Z
DTSTAMP;VALUE=DATE-TIME:20260423T220250Z
UID:indico-contribution-19262@indico.ific.uv.es
DESCRIPTION:https://indico.ific.uv.es/event/6830/contributions/19262/
LOCATION:Universe 1001-Primera-119 - Nave. Exp. Sala de Reuniones
URL:https://indico.ific.uv.es/event/6830/contributions/19262/
END:VEVENT
END:VCALENDAR
