BEGIN:VCALENDAR
VERSION:2.0
PRODID:-//CERN//INDICO//EN
BEGIN:VEVENT
SUMMARY:Introducción
DTSTART;VALUE=DATE-TIME:20221020T090000Z
DTEND;VALUE=DATE-TIME:20221020T091000Z
DTSTAMP;VALUE=DATE-TIME:20260421T165037Z
UID:indico-contribution-19261@indico.ific.uv.es
DESCRIPTION:https://indico.ific.uv.es/event/6830/contributions/19261/
LOCATION:Universe 1001-Primera-119 - Nave. Exp. Sala de Reuniones
URL:https://indico.ific.uv.es/event/6830/contributions/19261/
END:VEVENT
END:VCALENDAR
