BEGIN:VCALENDAR
VERSION:2.0
PRODID:-//CERN//INDICO//EN
BEGIN:VEVENT
SUMMARY:Presentación del libro "Nieve de Primavera. Poemas de un científ
 ico en Estocolmo"
DTSTART;VALUE=DATE-TIME:20221019T170000Z
DTEND;VALUE=DATE-TIME:20221019T183000Z
DTSTAMP;VALUE=DATE-TIME:20260423T051310Z
UID:indico-event-6828@indico.ific.uv.es
DESCRIPTION:La presentación del libro Nieve de Primavera. Poemas de un ci
 entífico en Estocolmo\, del autor Pablo Fernández de Salas\, antiguo est
 udiante de doctorado del IFIC. El acto tendrá lugar el próximo 19 de oct
 ubre en la Casa de la Ciencia del CSIC en Valencia las 19h.\n\nDurante el 
 evento\, tanto Pablo como la ilustradora de la portada del libro\, Ivania 
 Maturana\, también antigua estudiante de doctorado del IFIC\, nos contar
 án cómo ha sido este proceso creativo y nos presentarán la obra en prim
 era persona.\n\nSinopsis:\n“Ciencia\, pasión\, lugares mágicos y hasta
  una boda en tiempos de pandemia. Los poemas de este libro ilustran las vi
 vencias de un físico español que emigra a Estocolmo para trabajar como c
 ientífico entre 2018 y 2021. Sus versos\, llenos de emociones y de creati
 vidad\, permiten que nos asomemos al corazón de una experiencia única e 
 inolvidable”.\n\n \n\nhttps://indico.ific.uv.es/event/6828/
LOCATION:Casa de la Ciencia del CSIC en Valencia Salón de actos
URL:https://indico.ific.uv.es/event/6828/
END:VEVENT
END:VCALENDAR
