BEGIN:VCALENDAR
VERSION:2.0
PRODID:-//CERN//INDICO//EN
BEGIN:VEVENT
SUMMARY:El universo invisible: de los neutrinos a la materia oscura
DTSTART;VALUE=DATE-TIME:20221027T170000Z
DTEND;VALUE=DATE-TIME:20221027T183000Z
DTSTAMP;VALUE=DATE-TIME:20260424T024856Z
UID:indico-event-6824@indico.ific.uv.es
DESCRIPTION:Toda la materia visible a nuestro alrededor\, que consiste en 
 galaxias\, estrellas\, planetas y seres vivos\, constituye solo el 5% de l
 a energía total del universo. El resto de la energía del universo\, el 9
 5%\, es invisible\, y está formada por dos sustancias desconocidas: la en
 ergía oscura (un 70%) y la materia oscura (un 25%). Entre los enigmas má
 s importantes de la física fundamental se encuentran el origen de las dim
 inutas masas de los neutrinos y la naturaleza de la materia oscura. En est
 a conferencia explicaremos qué son los neutrinos y la evidencia observaci
 onal para la existencia de la materia oscura. Ambas partículas son muy ab
 undantes\, pero a la vez son extremadamente difíciles de detectar debido 
 a sus débiles interacciones con los átomos. Si bien se han logrado detec
 tar neutrinos experimentalmente\, la materia oscura aún no se ha podido o
 bservar o producir directamente en el laboratorio. En esta charla nos aden
 traremos en este universo oscuro\, tratando de arrojar algo de luz al mism
 o.\n\nhttps://indico.ific.uv.es/event/6824/
LOCATION:Museo de las Ciencias de Valencia Auditorio Santiago Grisolía
URL:https://indico.ific.uv.es/event/6824/
END:VEVENT
END:VCALENDAR
