BEGIN:VCALENDAR
VERSION:2.0
PRODID:-//CERN//INDICO//EN
BEGIN:VEVENT
SUMMARY:Materia\, energía y “estrellas” oscuras
DTSTART;VALUE=DATE-TIME:20221021T161500Z
DTEND;VALUE=DATE-TIME:20221021T174500Z
DTSTAMP;VALUE=DATE-TIME:20260423T111710Z
UID:indico-event-6823@indico.ific.uv.es
DESCRIPTION:\n\nhttps://indico.ific.uv.es/event/6823/
LOCATION:Planetari de Castelló Salón de actos
URL:https://indico.ific.uv.es/event/6823/
END:VEVENT
END:VCALENDAR
