BEGIN:VCALENDAR
VERSION:2.0
PRODID:-//CERN//INDICO//EN
BEGIN:VEVENT
SUMMARY:Benditos neutrinos
DTSTART;VALUE=DATE-TIME:20221102T180000Z
DTEND;VALUE=DATE-TIME:20221102T193000Z
DTSTAMP;VALUE=DATE-TIME:20260424T112549Z
UID:indico-event-6822@indico.ific.uv.es
DESCRIPTION:\nLos neutrinos son las partículas elementales mas abundantes
  del universo. Tienen unas propiedades mas que interesantes y\, sin embarg
 o\, son aún grandes desconocidos. El neutrino es normalmente catalogado c
 omo elusivo\, esquivo\, incluso fantasmagórico\, por la dificultad que su
 pone su observación experimental. Y a pesar de todo eso\, es la única pa
 rtícula que ha desafiado con exito al todopoderoso Modelo Estándar\, la 
 "Biblia" de la física de partículas\, haciendo patente la necesidad de n
 uevas teorías capaces de explicar su comportamiento. Los neutrinos son pr
 oducidos en diferentes escenarios a lo largo y ancho de nuestro universo\,
  y llegan hasta nosotros actuando como mensajeros del cosmos. En esta char
 la trataremos de conocerlos un poco mejor. \n\n\nCharla de divulgación en
  el marco de "DUNE Module of Opportunity Workshop"\n\n\n\nhttps://indico.i
 fic.uv.es/event/6822/
LOCATION:Casa de la Ciencia del CSIC en Valencia Salón de actos
URL:https://indico.ific.uv.es/event/6822/
END:VEVENT
END:VCALENDAR
