BEGIN:VCALENDAR
VERSION:2.0
PRODID:-//CERN//INDICO//EN
BEGIN:VEVENT
SUMMARY:Discussion session
DTSTART;VALUE=DATE-TIME:20230905T150000Z
DTEND;VALUE=DATE-TIME:20230914T160000Z
DTSTAMP;VALUE=DATE-TIME:20260421T021309Z
UID:indico-event-3425@indico.ific.uv.es
DESCRIPTION:https://indico.ific.uv.es/event/6803/sessions/3425/
LOCATION: Sala 005
URL:https://indico.ific.uv.es/event/6803/sessions/3425/
END:VEVENT
END:VCALENDAR
