BEGIN:VCALENDAR
VERSION:2.0
PRODID:-//CERN//INDICO//EN
BEGIN:VEVENT
SUMMARY:Lecture 15
DTSTART;VALUE=DATE-TIME:20230911T130000Z
DTEND;VALUE=DATE-TIME:20230911T143000Z
DTSTAMP;VALUE=DATE-TIME:20260419T134515Z
UID:indico-contribution-21234@indico.ific.uv.es
DESCRIPTION:Speakers: Annalisa D'Angelo (Istituto Nazionale di Fisica Nucl
 eare and Tor Vergata University)\, Lucilla Lanza (Università di Roma Tor 
 Vergata)\nhttps://indico.ific.uv.es/event/6803/contributions/21234/
LOCATION: Sala 005
URL:https://indico.ific.uv.es/event/6803/contributions/21234/
END:VEVENT
END:VCALENDAR
