BEGIN:VCALENDAR
VERSION:2.0
PRODID:-//CERN//INDICO//EN
BEGIN:VEVENT
SUMMARY:Charlas CPAN 2012-2013 en IES de Asturias y León: Descubriendo un
 a nueva partícula en el LHC: el bosón de Higgs
DTSTART;VALUE=DATE-TIME:20121011T070000Z
DTEND;VALUE=DATE-TIME:20130531T150000Z
DTSTAMP;VALUE=DATE-TIME:20260420T045655Z
UID:indico-event-677@indico.ific.uv.es
DESCRIPTION:El Centro Nacional de Física de Partículas\, Astropartícula
 s y Nuclear (CPAN) y sus centros participantes ofrecen una serie de charla
 s divulgativas a demanda para Institutos de Educación Secundaria. Un comp
 leto recorrido por unas disciplinas científicas situadas en la frontera d
 el conocimiento humano\, que buscan la respuesta a las preguntas esenciale
 s: ¿de qué están hechas las cosas? ¿Cómo se formó el Universo donde 
 vivimos? ¿Y la materia que nos compone? ¿Cómo evolucionará el Universo
 ? ¿Podemos mejorar nuestro aprovechamiento de la energía? ¿Y utilizar n
 uestro conocimiento para mejorar el diagnóstico de enfermedades?\n\nLos t
 emas de las conferencias abarcan los ámbitos donde trabajan los grupos de
  investigación del CPAN: la Física Experimental de Altas Energías y el 
 LHC\, el mayor acelerador de partículas del mundo que trata de desvelar c
 uestiones fundamentales como el origen de la masa o la existencia de part
 ículas supersimétricas\; las teorías sobre el origen y final del Univer
 so realizadas por los experimentos que se realizan en Física de Astropart
 ículas\; las investigaciones más actuales en Física Nuclear\, relaciona
 das con sus aplicaciones en diagnóstico y terapia médica o en energía\;
  y las bases teóricas de todo esto\, la Teoría de la Relatividad de Eins
 tein... Esta actividad se desarrolla hasta el final del curso 2011/2012.\n
 \nEste registro es para las charlas:\n                            Descubri
 endo una nueva partícula en el LHC: el bosón de Higgs\n                 
            Se utilizará un vídeo corto y una presentación para describi
 r el apasionante camino recorrido por los físicos de partículas en la b
 úsqueda del bosón de Higgs en el acelerador LHC\, en el que han particip
 ado investigadores de la Universidad de Oviedo. Se explicarán los resulta
 dos sobre la observación del bosón de Higgs presentados en julio y estud
 ios posteriores. Se mostrarán los aspectos y aplicaciones prácticas a la
  sociedad que este tipo de investigación presenta. Público: Estudiantes 
 de ESO y bachillerato. \n\nhttps://indico.ific.uv.es/event/677/
LOCATION:Oviedo
URL:https://indico.ific.uv.es/event/677/
END:VEVENT
END:VCALENDAR
