BEGIN:VCALENDAR
VERSION:2.0
PRODID:-//CERN//INDICO//EN
BEGIN:VEVENT
SUMMARY:IFIC Topical Seminar: Data-driven neutrino floor and the importanc
 e of CEvNS data
DTSTART;VALUE=DATE-TIME:20220914T100000Z
DTEND;VALUE=DATE-TIME:20220914T110000Z
DTSTAMP;VALUE=DATE-TIME:20260423T121602Z
UID:indico-event-6765@indico.ific.uv.es
DESCRIPTION:I will discuss a few aspects of DM discovery limits (neutrino 
 floor) in multi-ton DM detectors\, paying special attention to WIMP signal
  and neutrino background uncertainties. I will show that actual measuremen
 ts of the coherent elastic neutrino-nucleus scattering (CEvNS) process ena
 ble a model-independent determination of the neutrino floor. I will then m
 ove on to the discussion of efforts of measuring CEvNS with decay-in-fligh
 t neutrino beams.\n\nhttps://indico.ific.uv.es/event/6765/
LOCATION:Universe 1001-Primera-1-1-1 - Paterna. Seminario
URL:https://indico.ific.uv.es/event/6765/
END:VEVENT
END:VCALENDAR
