BEGIN:VCALENDAR
VERSION:2.0
PRODID:-//CERN//INDICO//EN
BEGIN:VEVENT
SUMMARY:Inconsistencies on the 2nd r-process abundance peak
DTSTART;VALUE=DATE-TIME:20121218T110000Z
DTEND;VALUE=DATE-TIME:20121218T113000Z
DTSTAMP;VALUE=DATE-TIME:20260424T000841Z
UID:indico-contribution-8180@indico.ific.uv.es
DESCRIPTION:Fernando Montes\, from NSCL-MSU\, will present his proposal id
 ea on measurements related to the second r-process abundance peak.\n\nhttp
 s://indico.ific.uv.es/event/662/contributions/8180/
LOCATION:Valencia\, Colegio Mayor Rector Peset Salon de Actos
URL:https://indico.ific.uv.es/event/662/contributions/8180/
END:VEVENT
END:VCALENDAR
