BEGIN:VCALENDAR
VERSION:2.0
PRODID:-//CERN//INDICO//EN
BEGIN:VEVENT
SUMMARY:IFIC Seminar: Angular distribution and distinction of leptoquarks 
 at different colliders
DTSTART;VALUE=DATE-TIME:20220301T110000Z
DTEND;VALUE=DATE-TIME:20220301T130000Z
DTSTAMP;VALUE=DATE-TIME:20260424T112550Z
UID:indico-event-6563@indico.ific.uv.es
DESCRIPTION:Leptoquarks are some hypothetical bosons carrying both non-zer
 o lepton number and baryon number. They are very successful in explaining 
 flavour anomalies\, neutrino mass-generation\, muon g-2\, etc. There are t
 en different types of leptoquarks which can interact with SM fermions. In 
 this talk\, I'm going to discuss how one can distinguish the signatures of
  different leptoquarks (if any) at different (e-p\, e-photon and p-p) coll
 iders. Angular distribution (and radiation amplitude zero) plays a very cr
 ucial role in this distinction.\n\nhttps://indico.ific.uv.es/event/6563/
LOCATION:Universe 1001-Primera-1-1-1 - Paterna. Seminario
URL:https://indico.ific.uv.es/event/6563/
END:VEVENT
END:VCALENDAR
