BEGIN:VCALENDAR
VERSION:2.0
PRODID:-//CERN//INDICO//EN
BEGIN:VEVENT
SUMMARY:Charlas para IES del Instituto de Física Corpuscular. Curso 2021-
 2022
DTSTART;VALUE=DATE-TIME:20211006T110000Z
DTEND;VALUE=DATE-TIME:20220630T170000Z
DTSTAMP;VALUE=DATE-TIME:20260419T142432Z
UID:indico-event-6395@indico.ific.uv.es
DESCRIPTION:El Instituto de Física Corpuscular (IFIC) es un centro mixto 
 del CSIC y la Universidad de Valencia\, líder en investigación experimen
 tal y teórica en física de partículas\, astropartículas y nuclear. El 
 IFIC es pionero en España en la investigación experimental de los consti
 tuyentes de la materia\, con una trayectoria que arrancó en la década de
  1950. \n\n\nLas charlas que ofrece el Instituto de Física Corpuscular e
 n centros de secundaria están dirigidas principalmente a estudiantes de 
 últimos cursos de ESO y de Bachillerato. Tras completar esta solicitud\, 
 la organización se pondrá en contacto con vosotros para concretar la fec
 ha\, horario y demás detalles de la charla.\n\nCharlas ofertadas por el I
 FIC:\n\nLas partículas elementales en el LHC: ¿Qué sabemos y qué nos f
 alta por saber?\n\nCharla que explica la investigación que se realiza en 
 el Gran Colisionador de Hadrones (LHC) y la participación del IFIC en uno
  de sus grandes experimentos\, el detector ATLAS. En julio de 2012\, este 
 experimento anunció el descubrimiento de una nueva partícula\, el bosón
  de Higgs\, que permite entender el origen de la masa de las partículas f
 undamentales. Este descubrimiento abre una nueva ventana al conocimiento d
 e nuestro. Tras el descubrimiento del bosón de Higgs\, quedan muchas preg
 untas pendientes: ¿es éste el único bosón de Higgs?\; ¿de qué está 
 hecha la materia oscura que forma gran parte del universo?\; ¿son las par
 tículas elementales realmente elementales?\n\nMás allá de la luz: la f
 ísica de astropartículas\n\nDesde las primeras observaciones con telesco
 pio realizadas por Galileo hemos aprendido mucho del Universo gracias a la
  luz. Sin embargo\, en los últimos años los físicos hemos conseguido mi
 rar el cielo de otra manera\, a través de la detección de otros tipos de
  partículas elementales\, como los rayos cósmicos o los neutrinos. Su me
 dida ha sido posible gracias a 'telescopios' muy diferentes de los habitua
 les\, que describiremos en esta charla: grandes proyectos experimentales u
 bicados en el fondo del mar\, en la Pampa argentina o en instalaciones sub
 terráneas.\n\nFísica Nuclear: los núcleos y sus aplicaciones\n\nHa llov
 ido mucho desde el experimento de Rutherford a principios del siglo XX\, 
 pero los físicos nucleares seguimos bombardeando blancos con haces de par
 tículas para entender como funciona el núcleo atómico (¡que concentra 
 más del 99% de la masa del átomo!). Las reacciones nucleares que  se es
 tudian en los grandes laboratorios de Física Nuclear son las mismas que m
 antienen vivas a las estrellas\, y con ellas se "fabrican" los elementos 
 químicos que conocemos. En esta charla haremos un viaje al interior de la
  materia hasta el nivel nuclear e introduciremos el cómo y el por qué ha
 cemos experimentos en grandes instalaciones de tres continentes distintos.
  Además hablaremos de las aplicaciones concretas de nuestras medidas en A
 strofísica y de nuestra instrumentación en Física Médica.\n\nCosmolog
 ía: la ciencia del universo\n\nDurante siglos los científicos han mirado
  al cielo\, tratando de entender los objetos que allí observamos y cómo 
 conforman el objeto más grande del que tenemos noticia: el universo. Pero
  ha sido sólo en la segunda mitad del siglo XX cuando\, al fin\, hemos de
 sarrollado técnicas que nos permiten estudiar el universo en su conjunto\
 , un objeto gigantesco en el que las galaxias son tan pequeñas como los 
 átomos en una manzana. Para estudiarlo usamos la luz más antigua del uni
 niverso\, el fondo cósmico de microondas\, o cartografiados con millones 
 de galaxias. Gracias a ellos empezamos a entender la estructura\, composic
 ión y evolución de este universo del que formamos parte.\n\nhttps://indi
 co.ific.uv.es/event/6395/
LOCATION:
URL:https://indico.ific.uv.es/event/6395/
END:VEVENT
END:VCALENDAR
