BEGIN:VCALENDAR
VERSION:2.0
PRODID:-//CERN//INDICO//EN
BEGIN:VEVENT
SUMMARY:IFIC Seminar: Searching for New Physics using angular correlations
  in e+e- colliders
DTSTART;VALUE=DATE-TIME:20211019T100000Z
DTEND;VALUE=DATE-TIME:20211019T120000Z
DTSTAMP;VALUE=DATE-TIME:20260422T072916Z
UID:indico-event-6360@indico.ific.uv.es
DESCRIPTION:Correlations play a fundamental role in many branches of physi
 cs\, from quantum mechanics to particle physics and cosmology. In particul
 ar\, the astonishing homogeneity of the angular distribution of the Cosmic
  Microwave Background radiation across the sky (measured with high precisi
 on by the WMAP and Planck missions) requires of an inflationary epoch righ
 t after the Big Bang. In analogy\, particle correlations can also play an 
 important role to uncover a possible stage of non-conventional matter in h
 igh-energy collisions. The analysis of such angular particle correlations 
 can be done at the LHC\, and more cleanly at future e+e- colliders like th
 e International Linear Collider (ILC).\n\nhttps://indico.ific.uv.es/event/
 6360/
LOCATION:Universe 1001-Primera-1-1-1 - Paterna. Seminario
URL:https://indico.ific.uv.es/event/6360/
END:VEVENT
END:VCALENDAR
