BEGIN:VCALENDAR
VERSION:2.0
PRODID:-//CERN//INDICO//EN
BEGIN:VEVENT
SUMMARY:Actividades innovadoras en AI y visión de las oportunidades
DTSTART;VALUE=DATE-TIME:20210923T130000Z
DTEND;VALUE=DATE-TIME:20210923T131500Z
DTSTAMP;VALUE=DATE-TIME:20260424T063404Z
UID:indico-contribution-6353-16189@indico.ific.uv.es
DESCRIPTION:Speakers: Carlos Escobar (IFIC (CSIC-UV/EG))\nhttps://indico.i
 fic.uv.es/event/6353/contributions/16189/
LOCATION:
URL:https://indico.ific.uv.es/event/6353/contributions/16189/
END:VEVENT
BEGIN:VEVENT
SUMMARY:Actividades innovadoras en AI y visión de las oportunidades
DTSTART;VALUE=DATE-TIME:20210923T124500Z
DTEND;VALUE=DATE-TIME:20210923T130000Z
DTSTAMP;VALUE=DATE-TIME:20260424T063404Z
UID:indico-contribution-6353-16188@indico.ific.uv.es
DESCRIPTION:Speakers: Kiko Albiol (CSIC)\nhttps://indico.ific.uv.es/event/
 6353/contributions/16188/
LOCATION:
URL:https://indico.ific.uv.es/event/6353/contributions/16188/
END:VEVENT
BEGIN:VEVENT
SUMMARY:Actividades innovadoras en AI y visión de las oportunidades
DTSTART;VALUE=DATE-TIME:20210923T123000Z
DTEND;VALUE=DATE-TIME:20210923T124500Z
DTSTAMP;VALUE=DATE-TIME:20260424T063404Z
UID:indico-contribution-6353-16187@indico.ific.uv.es
DESCRIPTION:Speakers: Veronica Sanz ()\nhttps://indico.ific.uv.es/event/63
 53/contributions/16187/
LOCATION:
URL:https://indico.ific.uv.es/event/6353/contributions/16187/
END:VEVENT
BEGIN:VEVENT
SUMMARY:Discusión
DTSTART;VALUE=DATE-TIME:20210923T140000Z
DTEND;VALUE=DATE-TIME:20210923T143000Z
DTSTAMP;VALUE=DATE-TIME:20260424T063404Z
UID:indico-contribution-6353-16171@indico.ific.uv.es
DESCRIPTION:https://indico.ific.uv.es/event/6353/contributions/16171/
LOCATION:
URL:https://indico.ific.uv.es/event/6353/contributions/16171/
END:VEVENT
BEGIN:VEVENT
SUMMARY:El programa "Instrumentación avanzada para instalaciones de vangu
 ardia en Astrofísica y Física de Altas energías" del área de "Astrofí
 sica y Física de Altas Energías" de los planes complementarios de I+D+i 
 en el marco del PLAN DE RECUPERACIÓN\, TRANSFORMACIÓN Y RESILIENCIA
DTSTART;VALUE=DATE-TIME:20210923T134500Z
DTEND;VALUE=DATE-TIME:20210923T140000Z
DTSTAMP;VALUE=DATE-TIME:20260424T063404Z
UID:indico-contribution-6353-16170@indico.ific.uv.es
DESCRIPTION:https://indico.ific.uv.es/event/6353/contributions/16170/
LOCATION:
URL:https://indico.ific.uv.es/event/6353/contributions/16170/
END:VEVENT
BEGIN:VEVENT
SUMMARY:Actualización del RIS3-CV (S3 2021-2027). Mesa de Economía Digit
 al
DTSTART;VALUE=DATE-TIME:20210923T133000Z
DTEND;VALUE=DATE-TIME:20210923T134500Z
DTSTAMP;VALUE=DATE-TIME:20260424T063404Z
UID:indico-contribution-6353-16169@indico.ific.uv.es
DESCRIPTION:Speakers: Juan Jose Hernandez (IFIC)\nhttps://indico.ific.uv.e
 s/event/6353/contributions/16169/
LOCATION:
URL:https://indico.ific.uv.es/event/6353/contributions/16169/
END:VEVENT
BEGIN:VEVENT
SUMMARY:Inndromeda\, DIH\, etc
DTSTART;VALUE=DATE-TIME:20210923T131500Z
DTEND;VALUE=DATE-TIME:20210923T133000Z
DTSTAMP;VALUE=DATE-TIME:20260424T063404Z
UID:indico-contribution-6353-16168@indico.ific.uv.es
DESCRIPTION:https://indico.ific.uv.es/event/6353/contributions/16168/
LOCATION:
URL:https://indico.ific.uv.es/event/6353/contributions/16168/
END:VEVENT
BEGIN:VEVENT
SUMMARY:AIHUB CSIC y COMCHA
DTSTART;VALUE=DATE-TIME:20210923T121500Z
DTEND;VALUE=DATE-TIME:20210923T123000Z
DTSTAMP;VALUE=DATE-TIME:20260424T063404Z
UID:indico-contribution-6353-16167@indico.ific.uv.es
DESCRIPTION:Speakers: Arantza Oyanguren (IFIC- Valencia)\nhttps://indico.i
 fic.uv.es/event/6353/contributions/16167/
LOCATION:
URL:https://indico.ific.uv.es/event/6353/contributions/16167/
END:VEVENT
BEGIN:VEVENT
SUMMARY:Introducción
DTSTART;VALUE=DATE-TIME:20210923T120000Z
DTEND;VALUE=DATE-TIME:20210923T121500Z
DTSTAMP;VALUE=DATE-TIME:20260424T063404Z
UID:indico-contribution-6353-16166@indico.ific.uv.es
DESCRIPTION:Speakers: Juan Jose Hernandez (IFIC)\nhttps://indico.ific.uv.e
 s/event/6353/contributions/16166/
LOCATION:
URL:https://indico.ific.uv.es/event/6353/contributions/16166/
END:VEVENT
END:VCALENDAR
