BEGIN:VCALENDAR
VERSION:2.0
PRODID:-//CERN//INDICO//EN
BEGIN:VEVENT
SUMMARY:Artemisa y actividades de AI en el IFIC (Reunión Comité Asesor A
 rtemisa y Comisión de Inteligencia Artificial del IFIC)
DTSTART;VALUE=DATE-TIME:20210923T120000Z
DTEND;VALUE=DATE-TIME:20210923T150000Z
DTSTAMP;VALUE=DATE-TIME:20260424T131037Z
UID:indico-event-6353@indico.ific.uv.es
DESCRIPTION:Unirse a la reunión Zoom\n \n\nhttps://cern.zoom.us/j/665544
 93882?pwd=eTUrR1FFK2tKeGkvOVREd05wbkdrdz09\n\nID de reunión: 665 5449 388
 2\nCódigo de acceso: 059457\n \n\nhttps://indico.ific.uv.es/event/6353/
LOCATION:
URL:https://indico.ific.uv.es/event/6353/
END:VEVENT
END:VCALENDAR
