BEGIN:VCALENDAR
VERSION:2.0
PRODID:-//CERN//INDICO//EN
BEGIN:VEVENT
SUMMARY:AI HUB del CSIC
DTSTART;VALUE=DATE-TIME:20210726T072000Z
DTEND;VALUE=DATE-TIME:20210726T074000Z
DTSTAMP;VALUE=DATE-TIME:20260423T210224Z
UID:indico-contribution-6328-16024@indico.ific.uv.es
DESCRIPTION:Speakers: Arantza Oyanguren (IFIC- Valencia)\nhttps://indico.i
 fic.uv.es/event/6328/contributions/16024/
LOCATION:
URL:https://indico.ific.uv.es/event/6328/contributions/16024/
END:VEVENT
BEGIN:VEVENT
SUMMARY:Discusión
DTSTART;VALUE=DATE-TIME:20210726T082000Z
DTEND;VALUE=DATE-TIME:20210726T092000Z
DTSTAMP;VALUE=DATE-TIME:20260423T210224Z
UID:indico-contribution-6328-16023@indico.ific.uv.es
DESCRIPTION:https://indico.ific.uv.es/event/6328/contributions/16023/
LOCATION:
URL:https://indico.ific.uv.es/event/6328/contributions/16023/
END:VEVENT
BEGIN:VEVENT
SUMMARY:Consideraciones generales sobre el futuro de Artemisa
DTSTART;VALUE=DATE-TIME:20210726T080000Z
DTEND;VALUE=DATE-TIME:20210726T082000Z
DTSTAMP;VALUE=DATE-TIME:20260423T210224Z
UID:indico-contribution-6328-16022@indico.ific.uv.es
DESCRIPTION:Speakers: Juan Jose Hernandez (IFIC)\nhttps://indico.ific.uv.e
 s/event/6328/contributions/16022/
LOCATION:
URL:https://indico.ific.uv.es/event/6328/contributions/16022/
END:VEVENT
BEGIN:VEVENT
SUMMARY:Estado actual de Artemisa
DTSTART;VALUE=DATE-TIME:20210726T074000Z
DTEND;VALUE=DATE-TIME:20210726T080000Z
DTSTAMP;VALUE=DATE-TIME:20260423T210224Z
UID:indico-contribution-6328-16021@indico.ific.uv.es
DESCRIPTION:Speakers: Fco. Javier Sanchez Martinez (IFIC)\nhttps://indico.
 ific.uv.es/event/6328/contributions/16021/
LOCATION:
URL:https://indico.ific.uv.es/event/6328/contributions/16021/
END:VEVENT
BEGIN:VEVENT
SUMMARY:The Data Intensive Science Centre at University of Sussex (DISCUS)
DTSTART;VALUE=DATE-TIME:20210726T070000Z
DTEND;VALUE=DATE-TIME:20210726T072000Z
DTSTAMP;VALUE=DATE-TIME:20260423T210224Z
UID:indico-contribution-6328-16020@indico.ific.uv.es
DESCRIPTION:Speakers: Verónica Sanz (IFIC )\nhttps://indico.ific.uv.es/ev
 ent/6328/contributions/16020/
LOCATION:
URL:https://indico.ific.uv.es/event/6328/contributions/16020/
END:VEVENT
END:VCALENDAR
