BEGIN:VCALENDAR
VERSION:2.0
PRODID:-//CERN//INDICO//EN
BEGIN:VEVENT
SUMMARY:Ruegos y preguntas
DTSTART;VALUE=DATE-TIME:20210216T155000Z
DTEND;VALUE=DATE-TIME:20210216T160000Z
DTSTAMP;VALUE=DATE-TIME:20260422T074700Z
UID:indico-contribution-14440@indico.ific.uv.es
DESCRIPTION:https://indico.ific.uv.es/event/6142/contributions/14440/
LOCATION:
URL:https://indico.ific.uv.es/event/6142/contributions/14440/
END:VEVENT
END:VCALENDAR
