BEGIN:VCALENDAR
VERSION:2.0
PRODID:-//CERN//INDICO//EN
BEGIN:VEVENT
SUMMARY:IFIC
DTSTART;VALUE=DATE-TIME:20210114T110000Z
DTEND;VALUE=DATE-TIME:20210114T112000Z
DTSTAMP;VALUE=DATE-TIME:20260422T124727Z
UID:indico-contribution-14069@indico.ific.uv.es
DESCRIPTION:Speakers: Johannes Hirn ()\, Jose Enrique Garcia Navarro (IFIC
  (Instituto de Fisica Corpuscular))\, Veronica Sanz ()\, Veronica Sanz (Un
 iversity of Sussex)\nhttps://indico.ific.uv.es/event/6059/contributions/14
 069/
LOCATION:
URL:https://indico.ific.uv.es/event/6059/contributions/14069/
END:VEVENT
END:VCALENDAR
