BEGIN:VCALENDAR
VERSION:2.0
PRODID:-//CERN//INDICO//EN
BEGIN:VEVENT
SUMMARY:Experimentos de física de partículas para el aula
DTSTART;VALUE=DATE-TIME:20210329T153000Z
DTEND;VALUE=DATE-TIME:20210329T173000Z
DTSTAMP;VALUE=DATE-TIME:20260423T171225Z
UID:indico-contribution-14163@indico.ific.uv.es
DESCRIPTION:Speakers: Jose Enrique Garcia Navarro (IFIC (Instituto de Fisi
 ca Corpuscular))\nFabricación de una cámara de niebla casera\, con la qu
 e se puede observar la radiactividad ambiental. Aceleradores de bolas: mag
 nético y eléctrico.\n\nhttps://indico.ific.uv.es/event/6056/contribution
 s/14163/
LOCATION:Online
URL:https://indico.ific.uv.es/event/6056/contributions/14163/
END:VEVENT
END:VCALENDAR
