BEGIN:VCALENDAR
VERSION:2.0
PRODID:-//CERN//INDICO//EN
BEGIN:VEVENT
SUMMARY:Gravedad más allá de Einstein
DTSTART;VALUE=DATE-TIME:20210311T163000Z
DTEND;VALUE=DATE-TIME:20210311T183000Z
DTSTAMP;VALUE=DATE-TIME:20260423T171226Z
UID:indico-contribution-14058@indico.ific.uv.es
DESCRIPTION:Speakers: Gonzalo Olmo Alba (IFIC)\nAlgunas nociones de la gra
 vedad de Einstein. Más allá de la relatividad general. Agujeros negros y
  radiación de Hawking.\n\nhttps://indico.ific.uv.es/event/6056/contributi
 ons/14058/
LOCATION:Online
URL:https://indico.ific.uv.es/event/6056/contributions/14058/
END:VEVENT
END:VCALENDAR
