BEGIN:VCALENDAR
VERSION:2.0
PRODID:-//CERN//INDICO//EN
BEGIN:VEVENT
SUMMARY:Física nuclear
DTSTART;VALUE=DATE-TIME:20210218T163000Z
DTEND;VALUE=DATE-TIME:20210218T183000Z
DTSTAMP;VALUE=DATE-TIME:20260423T171226Z
UID:indico-contribution-14057@indico.ific.uv.es
DESCRIPTION:Speakers: Alejandro Algora (IFIC (CSIC-Univ. Valencia))\nDesin
 tegraciones nucleares y la tabla de núclidos. Origen de los núcleos. Fis
 ión nuclear y energética nuclear. Estructura nuclear básica. Aplicacion
 es de la física nuclear.\n\nhttps://indico.ific.uv.es/event/6056/contribu
 tions/14057/
LOCATION:Online
URL:https://indico.ific.uv.es/event/6056/contributions/14057/
END:VEVENT
END:VCALENDAR
