BEGIN:VCALENDAR
VERSION:2.0
PRODID:-//CERN//INDICO//EN
BEGIN:VEVENT
SUMMARY:Física de neutrinos
DTSTART;VALUE=DATE-TIME:20210304T163000Z
DTEND;VALUE=DATE-TIME:20210304T183000Z
DTSTAMP;VALUE=DATE-TIME:20260423T171225Z
UID:indico-contribution-14056@indico.ific.uv.es
DESCRIPTION:Speakers: Sergio Pastor (IFIC Valencia)\nLos neutrinos dentro 
 del Modelo Estándar. Oscilaciones de neutrinos: teoría y experimentos. L
 os neutrinos y otras partículas como mensajeros en astrofísica y cosmolo
 gía.\n\nhttps://indico.ific.uv.es/event/6056/contributions/14056/
LOCATION:Online
URL:https://indico.ific.uv.es/event/6056/contributions/14056/
END:VEVENT
END:VCALENDAR
