BEGIN:VCALENDAR
VERSION:2.0
PRODID:-//CERN//INDICO//EN
BEGIN:VEVENT
SUMMARY:Aplicaciones médicas de la física nuclear y de partículas
DTSTART;VALUE=DATE-TIME:20210225T163000Z
DTEND;VALUE=DATE-TIME:20210225T183000Z
DTSTAMP;VALUE=DATE-TIME:20260424T164520Z
UID:indico-contribution-14052@indico.ific.uv.es
DESCRIPTION:Speakers: Gabriela Llosa (IFIC-CSIC)\nTécnicas de física de 
 partículas para explorar el cuerpo humano. Detectores de partículas apli
 cados a la medicina.\n\nhttps://indico.ific.uv.es/event/6056/contributions
 /14052/
LOCATION:Online
URL:https://indico.ific.uv.es/event/6056/contributions/14052/
END:VEVENT
END:VCALENDAR
