BEGIN:VCALENDAR
VERSION:2.0
PRODID:-//CERN//INDICO//EN
BEGIN:VEVENT
SUMMARY:Cosmología
DTSTART;VALUE=DATE-TIME:20210325T163000Z
DTEND;VALUE=DATE-TIME:20210325T183000Z
DTSTAMP;VALUE=DATE-TIME:20260423T171225Z
UID:indico-contribution-14051@indico.ific.uv.es
DESCRIPTION:Speakers: Olga Mena (IFIC/CSIC-UV)\nEl paradigma del Big Bang:
  expansión del universo y universo temprano. El fondo cósmico de microon
 das. Inflación cósmica. Composición del universo: materia bariónica\, 
 materia oscura y energía oscura. Experimentos de búsqueda de materia osc
 ura. Ondas gravitacionales como mensajeros cósmicos.\n\nhttps://indico.if
 ic.uv.es/event/6056/contributions/14051/
LOCATION:Online
URL:https://indico.ific.uv.es/event/6056/contributions/14051/
END:VEVENT
END:VCALENDAR
