BEGIN:VCALENDAR
VERSION:2.0
PRODID:-//CERN//INDICO//EN
BEGIN:VEVENT
SUMMARY:Introducción a la teoría de la relatividad
DTSTART;VALUE=DATE-TIME:20210128T163000Z
DTEND;VALUE=DATE-TIME:20210128T183000Z
DTSTAMP;VALUE=DATE-TIME:20260424T024834Z
UID:indico-contribution-14047@indico.ific.uv.es
DESCRIPTION:Speakers: Alberto Aparici (IFIC)\nEl movimiento de la luz. La 
 percepción del espacio y tiempo es diferente para observadores diferentes
 . La velocidad de la luz como límite. La fuerza de la gravedad como fuerz
 a de inercia: principio de equivalencia y espacio-tiempo curvado. Agujeros
  negros. Ondas gravitacionales.\n\nhttps://indico.ific.uv.es/event/6056/co
 ntributions/14047/
LOCATION:Online
URL:https://indico.ific.uv.es/event/6056/contributions/14047/
END:VEVENT
END:VCALENDAR
