BEGIN:VCALENDAR
VERSION:2.0
PRODID:-//CERN//INDICO//EN
BEGIN:VEVENT
SUMMARY:Belle II Vertex Detector Upgrade
DTSTART;VALUE=DATE-TIME:20210111T110000Z
DTEND;VALUE=DATE-TIME:20210111T113000Z
DTSTAMP;VALUE=DATE-TIME:20260421T054515Z
UID:indico-contribution-14008@indico.ific.uv.es
DESCRIPTION:Speakers: Carlos Marinas (IFIC)\nhttps://indico.ific.uv.es/eve
 nt/6050/contributions/14008/
LOCATION:Universe 1001-Primera-135 - Nave Exp. Sala de Audiovisuales
URL:https://indico.ific.uv.es/event/6050/contributions/14008/
END:VEVENT
END:VCALENDAR
