BEGIN:VCALENDAR
VERSION:2.0
PRODID:-//CERN//INDICO//EN
BEGIN:VEVENT
SUMMARY:CIDE
DTSTART;VALUE=DATE-TIME:20201124T092000Z
DTEND;VALUE=DATE-TIME:20201124T094000Z
DTSTAMP;VALUE=DATE-TIME:20260421T171449Z
UID:indico-contribution-13733@indico.ific.uv.es
DESCRIPTION:Speakers: Alicia Montesinos (CIDE-CSIC)\, Miguel Verdú (CSIC)
 \nhttps://indico.ific.uv.es/event/6009/contributions/13733/
LOCATION:
URL:https://indico.ific.uv.es/event/6009/contributions/13733/
END:VEVENT
END:VCALENDAR
