BEGIN:VCALENDAR
VERSION:2.0
PRODID:-//CERN//INDICO//EN
BEGIN:VEVENT
SUMMARY:IFIC
DTSTART;VALUE=DATE-TIME:20201124T090000Z
DTEND;VALUE=DATE-TIME:20201124T092000Z
DTSTAMP;VALUE=DATE-TIME:20260421T171450Z
UID:indico-contribution-13732@indico.ific.uv.es
DESCRIPTION:Speakers: Johannes Hirn ()\, Jose Enrique Garcia Navarro (IFIC
  (Instituto de Fisica Corpuscular))\, Veronica Sanz ()\, Veronica Sanz (Un
 iversity of Sussex)\nhttps://indico.ific.uv.es/event/6009/contributions/13
 732/
LOCATION:
URL:https://indico.ific.uv.es/event/6009/contributions/13732/
END:VEVENT
END:VCALENDAR
