BEGIN:VCALENDAR
VERSION:2.0
PRODID:-//CERN//INDICO//EN
BEGIN:VEVENT
SUMMARY:Tier3 meeting
DTSTART;VALUE=DATE-TIME:20070604T080000Z
DTEND;VALUE=DATE-TIME:20070604T100000Z
DTSTAMP;VALUE=DATE-TIME:20260420T100343Z
UID:indico-event-6@indico.ific.uv.es
DESCRIPTION:https://indico.ific.uv.es/event/6/
LOCATION:
URL:https://indico.ific.uv.es/event/6/
END:VEVENT
END:VCALENDAR
