BEGIN:VCALENDAR
VERSION:2.0
PRODID:-//CERN//INDICO//EN
BEGIN:VEVENT
SUMMARY:ID software experience from the Combined Testbeam and Cosmic Ray d
 ata
DTSTART;VALUE=DATE-TIME:20070604T084000Z
DTEND;VALUE=DATE-TIME:20070604T090000Z
DTSTAMP;VALUE=DATE-TIME:20260422T134347Z
UID:indico-contribution-7742@indico.ific.uv.es
DESCRIPTION:Speakers: Maria Jose Costa ()\nhttps://indico.ific.uv.es/event
 /6/contributions/7742/
LOCATION:
URL:https://indico.ific.uv.es/event/6/contributions/7742/
END:VEVENT
END:VCALENDAR
