BEGIN:VCALENDAR
VERSION:2.0
PRODID:-//CERN//INDICO//EN
BEGIN:VEVENT
SUMMARY:distributed analysis
DTSTART;VALUE=DATE-TIME:20070604T090000Z
DTEND;VALUE=DATE-TIME:20070604T092000Z
DTSTAMP;VALUE=DATE-TIME:20260424T094724Z
UID:indico-contribution-7741@indico.ific.uv.es
DESCRIPTION:Speakers: santiago Gonzalez de la Hoz ()\nhttps://indico.ific.
 uv.es/event/6/contributions/7741/
LOCATION:
URL:https://indico.ific.uv.es/event/6/contributions/7741/
END:VEVENT
END:VCALENDAR
