BEGIN:VCALENDAR
VERSION:2.0
PRODID:-//CERN//INDICO//EN
BEGIN:VEVENT
SUMMARY:b-tagging and twin Higgs
DTSTART;VALUE=DATE-TIME:20070604T092000Z
DTEND;VALUE=DATE-TIME:20070604T094000Z
DTSTAMP;VALUE=DATE-TIME:20260421T171341Z
UID:indico-contribution-7740@indico.ific.uv.es
DESCRIPTION:Speakers: marcel Vos ()\nhttps://indico.ific.uv.es/event/6/con
 tributions/7740/
LOCATION:
URL:https://indico.ific.uv.es/event/6/contributions/7740/
END:VEVENT
END:VCALENDAR
