BEGIN:VCALENDAR
VERSION:2.0
PRODID:-//CERN//INDICO//EN
BEGIN:VEVENT
SUMMARY:top physics
DTSTART;VALUE=DATE-TIME:20070604T080000Z
DTEND;VALUE=DATE-TIME:20070604T082000Z
DTSTAMP;VALUE=DATE-TIME:20260422T155808Z
UID:indico-contribution-7739@indico.ific.uv.es
DESCRIPTION:Speakers: Susana Cabrera ()\nhttps://indico.ific.uv.es/event/6
 /contributions/7739/
LOCATION:
URL:https://indico.ific.uv.es/event/6/contributions/7739/
END:VEVENT
END:VCALENDAR
