BEGIN:VCALENDAR
VERSION:2.0
PRODID:-//CERN//INDICO//EN
BEGIN:VEVENT
SUMMARY:Lattice and flavour.
DTSTART;VALUE=DATE-TIME:20121126T172000Z
DTEND;VALUE=DATE-TIME:20121126T174500Z
DTSTAMP;VALUE=DATE-TIME:20260422T122118Z
UID:indico-contribution-901-7586@indico.ific.uv.es
DESCRIPTION:Speakers: Gregory Vulvert (IFIC\, CSIC/UV)\nhttps://indico.ifi
 c.uv.es/event/574/contributions/7586/
LOCATION:Hotel Sercotel Carmen
URL:https://indico.ific.uv.es/event/574/contributions/7586/
END:VEVENT
BEGIN:VEVENT
SUMMARY:Rare B decays beyond SM.
DTSTART;VALUE=DATE-TIME:20121126T153000Z
DTEND;VALUE=DATE-TIME:20121126T160000Z
DTSTAMP;VALUE=DATE-TIME:20260422T122118Z
UID:indico-contribution-901-7555@indico.ific.uv.es
DESCRIPTION:Speakers: Javier Virto (Universitat Autonoma de Barcelona - IF
 AE)\nhttps://indico.ific.uv.es/event/574/contributions/7555/
LOCATION:Hotel Sercotel Carmen
URL:https://indico.ific.uv.es/event/574/contributions/7555/
END:VEVENT
BEGIN:VEVENT
SUMMARY:Discussion Session
DTSTART;VALUE=DATE-TIME:20121126T174500Z
DTEND;VALUE=DATE-TIME:20121126T180000Z
DTSTAMP;VALUE=DATE-TIME:20260422T122118Z
UID:indico-contribution-901-7554@indico.ific.uv.es
DESCRIPTION:https://indico.ific.uv.es/event/574/contributions/7554/
LOCATION:Hotel Sercotel Carmen
URL:https://indico.ific.uv.es/event/574/contributions/7554/
END:VEVENT
BEGIN:VEVENT
SUMMARY:B -> D(*) tau nu Decays in the 2HDM.
DTSTART;VALUE=DATE-TIME:20121126T165500Z
DTEND;VALUE=DATE-TIME:20121126T172000Z
DTSTAMP;VALUE=DATE-TIME:20260422T122118Z
UID:indico-contribution-901-7553@indico.ific.uv.es
DESCRIPTION:Speakers: Alejandro Celis (IFIC\, CSIC/UV)\nhttps://indico.ifi
 c.uv.es/event/574/contributions/7553/
LOCATION:Hotel Sercotel Carmen
URL:https://indico.ific.uv.es/event/574/contributions/7553/
END:VEVENT
BEGIN:VEVENT
SUMMARY:Results from B factories (selected topics).
DTSTART;VALUE=DATE-TIME:20121126T163000Z
DTEND;VALUE=DATE-TIME:20121126T165500Z
DTSTAMP;VALUE=DATE-TIME:20260422T122118Z
UID:indico-contribution-901-7552@indico.ific.uv.es
DESCRIPTION:Speakers: Pablo Villanueva Pérez (IFIC\, CSIC/UV)\nhttps://in
 dico.ific.uv.es/event/574/contributions/7552/
LOCATION:Hotel Sercotel Carmen
URL:https://indico.ific.uv.es/event/574/contributions/7552/
END:VEVENT
BEGIN:VEVENT
SUMMARY:Rare decays at LHCb.
DTSTART;VALUE=DATE-TIME:20121126T150000Z
DTEND;VALUE=DATE-TIME:20121126T153000Z
DTSTAMP;VALUE=DATE-TIME:20260422T122118Z
UID:indico-contribution-901-7550@indico.ific.uv.es
DESCRIPTION:Speakers: Vicente Jose Rives Molina (Universitat de Barcelona)
 \nhttps://indico.ific.uv.es/event/574/contributions/7550/
LOCATION:Hotel Sercotel Carmen
URL:https://indico.ific.uv.es/event/574/contributions/7550/
END:VEVENT
BEGIN:VEVENT
SUMMARY:General Discussion
DTSTART;VALUE=DATE-TIME:20121127T073000Z
DTEND;VALUE=DATE-TIME:20121127T075000Z
DTSTAMP;VALUE=DATE-TIME:20260422T122118Z
UID:indico-contribution-901-7529@indico.ific.uv.es
DESCRIPTION:https://indico.ific.uv.es/event/574/contributions/7529/
LOCATION:Hotel Sercotel Carmen
URL:https://indico.ific.uv.es/event/574/contributions/7529/
END:VEVENT
BEGIN:VEVENT
SUMMARY:Flavour fits beyond SM.
DTSTART;VALUE=DATE-TIME:20121126T140000Z
DTEND;VALUE=DATE-TIME:20121126T143000Z
DTSTAMP;VALUE=DATE-TIME:20260422T122118Z
UID:indico-contribution-901-7519@indico.ific.uv.es
DESCRIPTION:Speakers: Miguel Nebot Gómez (IFIC\, CSIC/UV)\nhttps://indico
 .ific.uv.es/event/574/contributions/7519/
LOCATION:Hotel Sercotel Carmen
URL:https://indico.ific.uv.es/event/574/contributions/7519/
END:VEVENT
BEGIN:VEVENT
SUMMARY:Bs-> K*0-antiK*0 and Bs->mumu at LHCb.
DTSTART;VALUE=DATE-TIME:20121126T143000Z
DTEND;VALUE=DATE-TIME:20121126T150000Z
DTSTAMP;VALUE=DATE-TIME:20260422T122118Z
UID:indico-contribution-901-7518@indico.ific.uv.es
DESCRIPTION:Speakers: Paula Alvarez Cartelle (Universidad de Santiago de C
 ompostela)\nhttps://indico.ific.uv.es/event/574/contributions/7518/
LOCATION:Hotel Sercotel Carmen
URL:https://indico.ific.uv.es/event/574/contributions/7518/
END:VEVENT
END:VCALENDAR
