BEGIN:VCALENDAR
VERSION:2.0
PRODID:-//CERN//INDICO//EN
BEGIN:VEVENT
SUMMARY:Experiments with neutron beams: nuclear technology\, astrophysics\
 , basic and medical physics
DTSTART;VALUE=DATE-TIME:20121126T173500Z
DTEND;VALUE=DATE-TIME:20121126T180000Z
DTSTAMP;VALUE=DATE-TIME:20260421T110235Z
UID:indico-contribution-899-7594@indico.ific.uv.es
DESCRIPTION:Speakers: Carlos GUERRERO (CERN)\nhttps://indico.ific.uv.es/ev
 ent/574/contributions/7594/
LOCATION:Hotel Sercotel Carmen
URL:https://indico.ific.uv.es/event/574/contributions/7594/
END:VEVENT
BEGIN:VEVENT
SUMMARY:Spin-isospin excitations probed by beta decay and charge exchange 
 reactions.
DTSTART;VALUE=DATE-TIME:20121126T140000Z
DTEND;VALUE=DATE-TIME:20121126T142500Z
DTSTAMP;VALUE=DATE-TIME:20260421T110235Z
UID:indico-contribution-899-7593@indico.ific.uv.es
DESCRIPTION:Speakers: Sonja Orrigo (IFIC\, CSIC/UV)\nhttps://indico.ific.u
 v.es/event/574/contributions/7593/
LOCATION:Hotel Sercotel Carmen
URL:https://indico.ific.uv.es/event/574/contributions/7593/
END:VEVENT
BEGIN:VEVENT
SUMMARY:Development of Detection Systems for the Study of Spectroscopy\, F
 entoscopy and Correlations of Stable and Radioactive Nuclei
DTSTART;VALUE=DATE-TIME:20121126T164500Z
DTEND;VALUE=DATE-TIME:20121126T171000Z
DTSTAMP;VALUE=DATE-TIME:20260421T110235Z
UID:indico-contribution-899-7537@indico.ific.uv.es
DESCRIPTION:Speakers: Luis Armando Acosta Sanchez (Universidad de Huelva)\
 nhttps://indico.ific.uv.es/event/574/contributions/7537/
LOCATION:Hotel Sercotel Carmen
URL:https://indico.ific.uv.es/event/574/contributions/7537/
END:VEVENT
BEGIN:VEVENT
SUMMARY:Improving the performance of advanced medical techniques through a
 pplied nuclear physics.
DTSTART;VALUE=DATE-TIME:20121126T162000Z
DTEND;VALUE=DATE-TIME:20121126T164500Z
DTSTAMP;VALUE=DATE-TIME:20260421T110235Z
UID:indico-contribution-899-7536@indico.ific.uv.es
DESCRIPTION:Speakers: Samuel España (Ghent University)\nhttps://indico.if
 ic.uv.es/event/574/contributions/7536/
LOCATION:Hotel Sercotel Carmen
URL:https://indico.ific.uv.es/event/574/contributions/7536/
END:VEVENT
BEGIN:VEVENT
SUMMARY:Experimental physics with exotic nuclei: R&D on instrumentation\, 
 spectroscopic and reaction studies
DTSTART;VALUE=DATE-TIME:20121126T171000Z
DTEND;VALUE=DATE-TIME:20121126T173500Z
DTSTAMP;VALUE=DATE-TIME:20260421T110235Z
UID:indico-contribution-899-7534@indico.ific.uv.es
DESCRIPTION:Speakers: Angel-Miguel Sanchez-Benitez (Universidad de Huelva)
 \nhttps://indico.ific.uv.es/event/574/contributions/7534/
LOCATION:Hotel Sercotel Carmen
URL:https://indico.ific.uv.es/event/574/contributions/7534/
END:VEVENT
BEGIN:VEVENT
SUMMARY:Sitting in the Interface: Connecting Experiment and Theory in Nucl
 ear and Hadronic Physics.
DTSTART;VALUE=DATE-TIME:20121126T145000Z
DTEND;VALUE=DATE-TIME:20121126T151500Z
DTSTAMP;VALUE=DATE-TIME:20260421T110235Z
UID:indico-contribution-899-7533@indico.ific.uv.es
DESCRIPTION:Speakers: Cesar Fernandez Ramirez (Universidad Complutense de 
 Madrid)\nhttps://indico.ific.uv.es/event/574/contributions/7533/
LOCATION:Hotel Sercotel Carmen
URL:https://indico.ific.uv.es/event/574/contributions/7533/
END:VEVENT
BEGIN:VEVENT
SUMMARY:Reactions with exotic nuclei: theoretical developments and experim
 ental data interpretation
DTSTART;VALUE=DATE-TIME:20121126T142500Z
DTEND;VALUE=DATE-TIME:20121126T145000Z
DTSTAMP;VALUE=DATE-TIME:20260421T110235Z
UID:indico-contribution-899-7532@indico.ific.uv.es
DESCRIPTION:Speakers: Manuela Rodriguez-Gallardo (Universidad de Sevilla)\
 nhttps://indico.ific.uv.es/event/574/contributions/7532/
LOCATION:Hotel Sercotel Carmen
URL:https://indico.ific.uv.es/event/574/contributions/7532/
END:VEVENT
BEGIN:VEVENT
SUMMARY:Energy density functional methods for nuclear structure\, nuclear 
 astrophysics and lepton number violating processes.
DTSTART;VALUE=DATE-TIME:20121126T154000Z
DTEND;VALUE=DATE-TIME:20121126T160500Z
DTSTAMP;VALUE=DATE-TIME:20260421T110235Z
UID:indico-contribution-899-7531@indico.ific.uv.es
DESCRIPTION:Speakers: Tomas Raul Rodriguez Frutos (Technische Universität
  Darmstadt)\nhttps://indico.ific.uv.es/event/574/contributions/7531/
LOCATION:Hotel Sercotel Carmen
URL:https://indico.ific.uv.es/event/574/contributions/7531/
END:VEVENT
BEGIN:VEVENT
SUMMARY:Perturbative and Non Perturbative Physics at zero and finite tempe
 rature: Polyakov loop\, Condensates and Holography.
DTSTART;VALUE=DATE-TIME:20121126T151500Z
DTEND;VALUE=DATE-TIME:20121126T154000Z
DTSTAMP;VALUE=DATE-TIME:20260421T110235Z
UID:indico-contribution-899-7530@indico.ific.uv.es
DESCRIPTION:Speakers: Eugenio Megias (Universidad Autónoma de Barcelona)\
 nhttps://indico.ific.uv.es/event/574/contributions/7530/
LOCATION:Hotel Sercotel Carmen
URL:https://indico.ific.uv.es/event/574/contributions/7530/
END:VEVENT
END:VCALENDAR
