BEGIN:VCALENDAR
VERSION:2.0
PRODID:-//CERN//INDICO//EN
BEGIN:VEVENT
SUMMARY:Status and perspectives of AP in Spain:Cosmic rays.
DTSTART;VALUE=DATE-TIME:20121127T073000Z
DTEND;VALUE=DATE-TIME:20121127T080000Z
DTSTAMP;VALUE=DATE-TIME:20260421T110224Z
UID:indico-contribution-896-7573@indico.ific.uv.es
DESCRIPTION:Speakers: Fernando Arqueros (Universidad Complutense de Madrid
 )\nhttps://indico.ific.uv.es/event/574/contributions/7573/
LOCATION:Hotel Sercotel Carmen
URL:https://indico.ific.uv.es/event/574/contributions/7573/
END:VEVENT
BEGIN:VEVENT
SUMMARY:Status and perspectives of AP in Spain:Gamma rays.
DTSTART;VALUE=DATE-TIME:20121127T080000Z
DTEND;VALUE=DATE-TIME:20121127T083000Z
DTSTAMP;VALUE=DATE-TIME:20260421T110224Z
UID:indico-contribution-896-7572@indico.ific.uv.es
DESCRIPTION:Speakers: Lluis Font (Universitat Autònoma de Barcelona)\nhtt
 ps://indico.ific.uv.es/event/574/contributions/7572/
LOCATION:Hotel Sercotel Carmen
URL:https://indico.ific.uv.es/event/574/contributions/7572/
END:VEVENT
BEGIN:VEVENT
SUMMARY:Status and perspectives of AP in Spain:Cosmology.
DTSTART;VALUE=DATE-TIME:20121127T090000Z
DTEND;VALUE=DATE-TIME:20121127T093000Z
DTSTAMP;VALUE=DATE-TIME:20260421T110224Z
UID:indico-contribution-896-7527@indico.ific.uv.es
DESCRIPTION:Speakers: Francisco Prada (IFT\, UAM/CSIC)\nhttps://indico.ifi
 c.uv.es/event/574/contributions/7527/
LOCATION:Hotel Sercotel Carmen
URL:https://indico.ific.uv.es/event/574/contributions/7527/
END:VEVENT
BEGIN:VEVENT
SUMMARY:General discussion and conclusions.
DTSTART;VALUE=DATE-TIME:20121127T100500Z
DTEND;VALUE=DATE-TIME:20121127T110000Z
DTSTAMP;VALUE=DATE-TIME:20260421T110224Z
UID:indico-contribution-896-7526@indico.ific.uv.es
DESCRIPTION:Speakers: Inés Gil Botella (CIEMAT)\, Jose Angel Villar (Univ
 ersidad de Zaragoza)\, Juan CORTINA (IFAE)\nhttps://indico.ific.uv.es/even
 t/574/contributions/7526/
LOCATION:Hotel Sercotel Carmen
URL:https://indico.ific.uv.es/event/574/contributions/7526/
END:VEVENT
BEGIN:VEVENT
SUMMARY:Status and perspectives of AP in Spain:Gravitational Waves.
DTSTART;VALUE=DATE-TIME:20121127T083000Z
DTEND;VALUE=DATE-TIME:20121127T090000Z
DTSTAMP;VALUE=DATE-TIME:20260421T110224Z
UID:indico-contribution-896-7524@indico.ific.uv.es
DESCRIPTION:Speakers: Alicia Sintes (Universitat Illes Balears.)\nhttps://
 indico.ific.uv.es/event/574/contributions/7524/
LOCATION:Hotel Sercotel Carmen
URL:https://indico.ific.uv.es/event/574/contributions/7524/
END:VEVENT
BEGIN:VEVENT
SUMMARY:General issues on AP: Master\, Summer school\, outreach
DTSTART;VALUE=DATE-TIME:20121127T110000Z
DTEND;VALUE=DATE-TIME:20121127T114500Z
DTSTAMP;VALUE=DATE-TIME:20260421T110224Z
UID:indico-contribution-896-7521@indico.ific.uv.es
DESCRIPTION:https://indico.ific.uv.es/event/574/contributions/7521/
LOCATION:Hotel Sercotel Carmen
URL:https://indico.ific.uv.es/event/574/contributions/7521/
END:VEVENT
BEGIN:VEVENT
SUMMARY:Conclusions or RENATA meeting.
DTSTART;VALUE=DATE-TIME:20121127T114500Z
DTEND;VALUE=DATE-TIME:20121127T120000Z
DTSTAMP;VALUE=DATE-TIME:20260421T110224Z
UID:indico-contribution-896-7520@indico.ific.uv.es
DESCRIPTION:Speakers: Jose Angel Villar (Universidad de Zaragoza)\nhttps:/
 /indico.ific.uv.es/event/574/contributions/7520/
LOCATION:Hotel Sercotel Carmen
URL:https://indico.ific.uv.es/event/574/contributions/7520/
END:VEVENT
END:VCALENDAR
