BEGIN:VCALENDAR
VERSION:2.0
PRODID:-//CERN//INDICO//EN
BEGIN:VEVENT
SUMMARY:General Discussion
DTSTART;VALUE=DATE-TIME:20121127T114000Z
DTEND;VALUE=DATE-TIME:20121127T120000Z
DTSTAMP;VALUE=DATE-TIME:20260422T184714Z
UID:indico-contribution-894-7585@indico.ific.uv.es
DESCRIPTION:https://indico.ific.uv.es/event/574/contributions/7585/
LOCATION:Hotel Sercotel Carmen
URL:https://indico.ific.uv.es/event/574/contributions/7585/
END:VEVENT
BEGIN:VEVENT
SUMMARY:Search for the SM Higgs in the decay mode H-->Z Z*-->4L.
DTSTART;VALUE=DATE-TIME:20121127T073000Z
DTEND;VALUE=DATE-TIME:20121127T075500Z
DTSTAMP;VALUE=DATE-TIME:20260422T184714Z
UID:indico-contribution-894-7548@indico.ific.uv.es
DESCRIPTION:Speakers: Vanessa Arnal Torres (Universidad Autonoma de Madrid
 )\nhttps://indico.ific.uv.es/event/574/contributions/7548/
LOCATION:Hotel Sercotel Carmen
URL:https://indico.ific.uv.es/event/574/contributions/7548/
END:VEVENT
BEGIN:VEVENT
SUMMARY:Longitudinal WW scattering in light of the "Higgs discovery".
DTSTART;VALUE=DATE-TIME:20121127T091000Z
DTEND;VALUE=DATE-TIME:20121127T093500Z
DTSTAMP;VALUE=DATE-TIME:20260422T184714Z
UID:indico-contribution-894-7547@indico.ific.uv.es
DESCRIPTION:Speakers: Brian Yencho (Universitat de Barcelona)\, Brian Yenc
 ho (Universitat de Barcelona)\nhttps://indico.ific.uv.es/event/574/contrib
 utions/7547/
LOCATION:Hotel Sercotel Carmen
URL:https://indico.ific.uv.es/event/574/contributions/7547/
END:VEVENT
BEGIN:VEVENT
SUMMARY:Robust determination of the Higgs couplings: Power to the data.
DTSTART;VALUE=DATE-TIME:20121127T084500Z
DTEND;VALUE=DATE-TIME:20121127T091000Z
DTSTAMP;VALUE=DATE-TIME:20260422T184714Z
UID:indico-contribution-894-7546@indico.ific.uv.es
DESCRIPTION:Speakers: Juan Gonzalez Fraile (Universitat de Barcelona)\nhtt
 ps://indico.ific.uv.es/event/574/contributions/7546/
LOCATION:Hotel Sercotel Carmen
URL:https://indico.ific.uv.es/event/574/contributions/7546/
END:VEVENT
BEGIN:VEVENT
SUMMARY:Triple productasymmetries in B decays
DTSTART;VALUE=DATE-TIME:20121127T102500Z
DTEND;VALUE=DATE-TIME:20121127T105000Z
DTSTAMP;VALUE=DATE-TIME:20260422T184714Z
UID:indico-contribution-894-7545@indico.ific.uv.es
DESCRIPTION:Speakers: Antonio Romero Vidal (Universidad de Santiago de Com
 postela)\nhttps://indico.ific.uv.es/event/574/contributions/7545/
LOCATION:Hotel Sercotel Carmen
URL:https://indico.ific.uv.es/event/574/contributions/7545/
END:VEVENT
BEGIN:VEVENT
SUMMARY:Perspectives of B radiactive penguin decays.
DTSTART;VALUE=DATE-TIME:20121127T105000Z
DTEND;VALUE=DATE-TIME:20121127T111500Z
DTSTAMP;VALUE=DATE-TIME:20260422T184714Z
UID:indico-contribution-894-7544@indico.ific.uv.es
DESCRIPTION:Speakers: Vicente Jose Rives Molina (Universitat de Barcelona)
 \nhttps://indico.ific.uv.es/event/574/contributions/7544/
LOCATION:Hotel Sercotel Carmen
URL:https://indico.ific.uv.es/event/574/contributions/7544/
END:VEVENT
BEGIN:VEVENT
SUMMARY:Search for Higgs in the WW and combination.
DTSTART;VALUE=DATE-TIME:20121127T082000Z
DTEND;VALUE=DATE-TIME:20121127T084500Z
DTSTAMP;VALUE=DATE-TIME:20260422T184714Z
UID:indico-contribution-894-7542@indico.ific.uv.es
DESCRIPTION:Speakers: Lara Lloret Iglesias (Universidad de Oviedo)\nhttps:
 //indico.ific.uv.es/event/574/contributions/7542/
LOCATION:Hotel Sercotel Carmen
URL:https://indico.ific.uv.es/event/574/contributions/7542/
END:VEVENT
BEGIN:VEVENT
SUMMARY:Fits of Higgs couplings.
DTSTART;VALUE=DATE-TIME:20121127T075500Z
DTEND;VALUE=DATE-TIME:20121127T082000Z
DTSTAMP;VALUE=DATE-TIME:20260422T184714Z
UID:indico-contribution-894-7541@indico.ific.uv.es
DESCRIPTION:Speakers: Marc Montull (Institut de Fisica d'Altes Energies (I
 FAE))\nhttps://indico.ific.uv.es/event/574/contributions/7541/
LOCATION:Hotel Sercotel Carmen
URL:https://indico.ific.uv.es/event/574/contributions/7541/
END:VEVENT
BEGIN:VEVENT
SUMMARY:New limits on Bs-> mumu and K0s -> mumu
DTSTART;VALUE=DATE-TIME:20121127T111500Z
DTEND;VALUE=DATE-TIME:20121127T114000Z
DTSTAMP;VALUE=DATE-TIME:20260422T184714Z
UID:indico-contribution-894-7522@indico.ific.uv.es
DESCRIPTION:Speakers: Xabier Cid Vidal (USC - IGFAE)\nhttps://indico.ific.
 uv.es/event/574/contributions/7522/
LOCATION:Hotel Sercotel Carmen
URL:https://indico.ific.uv.es/event/574/contributions/7522/
END:VEVENT
BEGIN:VEVENT
SUMMARY:Direct CPV asymmetry in B0->K*gamma in LHCb
DTSTART;VALUE=DATE-TIME:20121127T100000Z
DTEND;VALUE=DATE-TIME:20121127T102500Z
DTSTAMP;VALUE=DATE-TIME:20260422T184714Z
UID:indico-contribution-894-7514@indico.ific.uv.es
DESCRIPTION:Speakers: Ricardo Vazquez Gomez (Universitat de Barcelona)\nht
 tps://indico.ific.uv.es/event/574/contributions/7514/
LOCATION:Hotel Sercotel Carmen
URL:https://indico.ific.uv.es/event/574/contributions/7514/
END:VEVENT
END:VCALENDAR
