BEGIN:VCALENDAR
VERSION:2.0
PRODID:-//CERN//INDICO//EN
BEGIN:VEVENT
SUMMARY:Charla para todos los públicos: "El Higgs"\, la partícula maldit
 a. Orador: Alvaro De Rújula. Lugar: Parque de las Ciencias
DTSTART;VALUE=DATE-TIME:20121127T183000Z
DTEND;VALUE=DATE-TIME:20121127T193000Z
DTSTAMP;VALUE=DATE-TIME:20260422T122131Z
UID:indico-event-892@indico.ific.uv.es
DESCRIPTION:https://indico.ific.uv.es/event/574/sessions/892/
LOCATION:Hotel Sercotel Carmen
URL:https://indico.ific.uv.es/event/574/sessions/892/
END:VEVENT
END:VCALENDAR
