BEGIN:VCALENDAR
VERSION:2.0
PRODID:-//CERN//INDICO//EN
BEGIN:VEVENT
SUMMARY:Lunch
DTSTART;VALUE=DATE-TIME:20121127T120000Z
DTEND;VALUE=DATE-TIME:20121127T133000Z
DTSTAMP;VALUE=DATE-TIME:20260422T122121Z
UID:indico-event-889@indico.ific.uv.es
DESCRIPTION:https://indico.ific.uv.es/event/574/sessions/889/
LOCATION:Hotel Sercotel Carmen
URL:https://indico.ific.uv.es/event/574/sessions/889/
END:VEVENT
END:VCALENDAR
