BEGIN:VCALENDAR
VERSION:2.0
PRODID:-//CERN//INDICO//EN
BEGIN:VEVENT
SUMMARY:A new determination of the mass of the c quark from non-analytic r
 econstruction.
DTSTART;VALUE=DATE-TIME:20121127T080000Z
DTEND;VALUE=DATE-TIME:20121127T083000Z
DTSTAMP;VALUE=DATE-TIME:20260420T104319Z
UID:indico-contribution-7591@indico.ific.uv.es
DESCRIPTION:Speakers: David GREYNAT (IFAE)\nhttps://indico.ific.uv.es/even
 t/574/contributions/7591/
LOCATION:Hotel Sercotel Carmen
URL:https://indico.ific.uv.es/event/574/contributions/7591/
END:VEVENT
END:VCALENDAR
