BEGIN:VCALENDAR
VERSION:2.0
PRODID:-//CERN//INDICO//EN
BEGIN:VEVENT
SUMMARY:Search for LNV scalars at the LHC.
DTSTART;VALUE=DATE-TIME:20121127T083000Z
DTEND;VALUE=DATE-TIME:20121127T090000Z
DTSTAMP;VALUE=DATE-TIME:20260420T030125Z
UID:indico-contribution-7589@indico.ific.uv.es
DESCRIPTION:Speakers: Mikael Chala (Universidad de Granada)\nhttps://indic
 o.ific.uv.es/event/574/contributions/7589/
LOCATION:Hotel Sercotel Carmen
URL:https://indico.ific.uv.es/event/574/contributions/7589/
END:VEVENT
END:VCALENDAR
