BEGIN:VCALENDAR
VERSION:2.0
PRODID:-//CERN//INDICO//EN
BEGIN:VEVENT
SUMMARY:Lattice and flavour.
DTSTART;VALUE=DATE-TIME:20121126T172000Z
DTEND;VALUE=DATE-TIME:20121126T174500Z
DTSTAMP;VALUE=DATE-TIME:20260421T171906Z
UID:indico-contribution-7586@indico.ific.uv.es
DESCRIPTION:Speakers: Gregory Vulvert (IFIC\, CSIC/UV)\nhttps://indico.ifi
 c.uv.es/event/574/contributions/7586/
LOCATION:Hotel Sercotel Carmen
URL:https://indico.ific.uv.es/event/574/contributions/7586/
END:VEVENT
END:VCALENDAR
