BEGIN:VCALENDAR
VERSION:2.0
PRODID:-//CERN//INDICO//EN
BEGIN:VEVENT
SUMMARY:Medical Physics: a very partial overview
DTSTART;VALUE=DATE-TIME:20121128T074500Z
DTEND;VALUE=DATE-TIME:20121128T081500Z
DTSTAMP;VALUE=DATE-TIME:20260419T222650Z
UID:indico-contribution-7583@indico.ific.uv.es
DESCRIPTION:Speakers: Yolanda Prezado (IMNC-CNRS)\nhttps://indico.ific.uv.
 es/event/574/contributions/7583/
LOCATION:Hotel Sercotel Carmen
URL:https://indico.ific.uv.es/event/574/contributions/7583/
END:VEVENT
END:VCALENDAR
