BEGIN:VCALENDAR
VERSION:2.0
PRODID:-//CERN//INDICO//EN
BEGIN:VEVENT
SUMMARY:Stability of the SM EW vacuum in view of the LHC results for the H
 iggs mass.
DTSTART;VALUE=DATE-TIME:20121126T171000Z
DTEND;VALUE=DATE-TIME:20121126T173500Z
DTSTAMP;VALUE=DATE-TIME:20260421T134944Z
UID:indico-contribution-7580@indico.ific.uv.es
DESCRIPTION:Speakers: Joan Elias Miro (IFAE)\nhttps://indico.ific.uv.es/ev
 ent/574/contributions/7580/
LOCATION:Hotel Sercotel Carmen
URL:https://indico.ific.uv.es/event/574/contributions/7580/
END:VEVENT
END:VCALENDAR
