BEGIN:VCALENDAR
VERSION:2.0
PRODID:-//CERN//INDICO//EN
BEGIN:VEVENT
SUMMARY:Recent results of neutrino oscillation experiments and future plan
 s
DTSTART;VALUE=DATE-TIME:20121128T112500Z
DTEND;VALUE=DATE-TIME:20121128T120500Z
DTSTAMP;VALUE=DATE-TIME:20260420T100441Z
UID:indico-contribution-7579@indico.ific.uv.es
DESCRIPTION:Speakers: David Wark (Imperial College London)\nhttps://indico
 .ific.uv.es/event/574/contributions/7579/
LOCATION:Hotel Sercotel Carmen
URL:https://indico.ific.uv.es/event/574/contributions/7579/
END:VEVENT
END:VCALENDAR
