BEGIN:VCALENDAR
VERSION:2.0
PRODID:-//CERN//INDICO//EN
BEGIN:VEVENT
SUMMARY:Status of the Dark Energy Survey project
DTSTART;VALUE=DATE-TIME:20121128T134000Z
DTEND;VALUE=DATE-TIME:20121128T142000Z
DTSTAMP;VALUE=DATE-TIME:20260419T222917Z
UID:indico-contribution-7578@indico.ific.uv.es
DESCRIPTION:Speakers: Ignacio Sevilla (CIEMAT)\nhttps://indico.ific.uv.es/
 event/574/contributions/7578/
LOCATION:Hotel Sercotel Carmen
URL:https://indico.ific.uv.es/event/574/contributions/7578/
END:VEVENT
END:VCALENDAR
