BEGIN:VCALENDAR
VERSION:2.0
PRODID:-//CERN//INDICO//EN
BEGIN:VEVENT
SUMMARY:Input to the European Strategy Preparatory group.
DTSTART;VALUE=DATE-TIME:20121126T151500Z
DTEND;VALUE=DATE-TIME:20121126T160000Z
DTSTAMP;VALUE=DATE-TIME:20260421T134943Z
UID:indico-contribution-7574@indico.ific.uv.es
DESCRIPTION:Speakers: Inés Gil Botella (CIEMAT)\, Juan Cortina (IFAE)\nht
 tps://indico.ific.uv.es/event/574/contributions/7574/
LOCATION:Hotel Sercotel Carmen
URL:https://indico.ific.uv.es/event/574/contributions/7574/
END:VEVENT
END:VCALENDAR
