BEGIN:VCALENDAR
VERSION:2.0
PRODID:-//CERN//INDICO//EN
BEGIN:VEVENT
SUMMARY:Status and perspectives of AP in Spain:Cosmic rays.
DTSTART;VALUE=DATE-TIME:20121127T073000Z
DTEND;VALUE=DATE-TIME:20121127T080000Z
DTSTAMP;VALUE=DATE-TIME:20260420T173039Z
UID:indico-contribution-7573@indico.ific.uv.es
DESCRIPTION:Speakers: Fernando Arqueros (Universidad Complutense de Madrid
 )\nhttps://indico.ific.uv.es/event/574/contributions/7573/
LOCATION:Hotel Sercotel Carmen
URL:https://indico.ific.uv.es/event/574/contributions/7573/
END:VEVENT
END:VCALENDAR
